BEGIN:VCALENDAR
VERSION:2.0
BEGIN:VEVENT
DTSTART;TZID=Europe/Stockholm:20300915T100000
DTEND;TZID=Europe/Stockholm:20300915T110000
DTSTAMP:20260424T230815
DESCRIPTION:
SEQUENCE:0
SUMMARY:Gudstjänst
UID:3792@lawebb.se
END:VEVENT
END:VCALENDAR