BEGIN:VCALENDAR
VERSION:2.0
BEGIN:VEVENT
DTSTART;TZID=Europe/Stockholm:20300310T100000
DTEND;TZID=Europe/Stockholm:20300310T110000
DTSTAMP:20260424T221521
DESCRIPTION:
SEQUENCE:0
SUMMARY:Gudstjänst
UID:8758@lawebb.se
END:VEVENT
END:VCALENDAR