BEGIN:VCALENDAR
VERSION:2.0
BEGIN:VEVENT
DTSTART;TZID=Europe/Stockholm:20300217T100000
DTEND;TZID=Europe/Stockholm:20300217T110000
DTSTAMP:20260424T220256
DESCRIPTION:
SEQUENCE:0
SUMMARY:Gudstjänst
UID:7838@lawebb.se
END:VEVENT
END:VCALENDAR