BEGIN:VCALENDAR
VERSION:2.0
BEGIN:VEVENT
DTSTART;TZID=Europe/Stockholm:20291118T100000
DTEND;TZID=Europe/Stockholm:20291118T110000
DTSTAMP:20260424T212724
DESCRIPTION:
SEQUENCE:0
SUMMARY:Gudstjänst
UID:8449@lawebb.se
END:VEVENT
END:VCALENDAR