BEGIN:VCALENDAR
VERSION:2.0
BEGIN:VEVENT
DTSTART;TZID=Europe/Stockholm:20291014T100000
DTEND;TZID=Europe/Stockholm:20291014T110000
DTSTAMP:20260424T211348
DESCRIPTION:
SEQUENCE:0
SUMMARY:Gudstjänst
UID:2354@lawebb.se
END:VEVENT
END:VCALENDAR