BEGIN:VCALENDAR
VERSION:2.0
BEGIN:VEVENT
DTSTART;TZID=Europe/Stockholm:20291007T100000
DTEND;TZID=Europe/Stockholm:20291007T110000
DTSTAMP:20260424T211348
DESCRIPTION:
SEQUENCE:0
SUMMARY:Gudstjänst
UID:3295@lawebb.se
END:VEVENT
END:VCALENDAR