BEGIN:VCALENDAR
VERSION:2.0
BEGIN:VEVENT
DTSTART;TZID=Europe/Stockholm:20290916T100000
DTEND;TZID=Europe/Stockholm:20290916T110000
DTSTAMP:20260424T210208
DESCRIPTION:
SEQUENCE:0
SUMMARY:Gudstjänst
UID:9268@lawebb.se
END:VEVENT
END:VCALENDAR