BEGIN:VCALENDAR
VERSION:2.0
BEGIN:VEVENT
DTSTART;TZID=Europe/Stockholm:20290722T100000
DTEND;TZID=Europe/Stockholm:20290722T110000
DTSTAMP:20260424T204827
DESCRIPTION:
SEQUENCE:0
SUMMARY:Gudstjänst
UID:7454@lawebb.se
END:VEVENT
END:VCALENDAR