BEGIN:VCALENDAR
VERSION:2.0
BEGIN:VEVENT
DTSTART;TZID=Europe/Stockholm:20290701T100000
DTEND;TZID=Europe/Stockholm:20290701T110000
DTSTAMP:20260424T204548
DESCRIPTION:
SEQUENCE:0
SUMMARY:Gudstjänst
UID:8265@lawebb.se
END:VEVENT
END:VCALENDAR