BEGIN:VCALENDAR
VERSION:2.0
BEGIN:VEVENT
DTSTART;TZID=Europe/Stockholm:20290513T100000
DTEND;TZID=Europe/Stockholm:20290513T110000
DTSTAMP:20260424T202813
DESCRIPTION:
SEQUENCE:0
SUMMARY:Gudstjänst
UID:6879@lawebb.se
END:VEVENT
END:VCALENDAR