BEGIN:VCALENDAR
VERSION:2.0
BEGIN:VEVENT
DTSTART;TZID=Europe/Stockholm:20290401T100000
DTEND;TZID=Europe/Stockholm:20290401T110000
DTSTAMP:20260424T201923
DESCRIPTION:
SEQUENCE:0
SUMMARY:Gudstjänst
UID:5565@lawebb.se
END:VEVENT
END:VCALENDAR