BEGIN:VCALENDAR
VERSION:2.0
BEGIN:VEVENT
DTSTART;TZID=Europe/Stockholm:20290325T100000
DTEND;TZID=Europe/Stockholm:20290325T110000
DTSTAMP:20260424T200823
DESCRIPTION:
SEQUENCE:0
SUMMARY:Gudstjänst
UID:2826@lawebb.se
END:VEVENT
END:VCALENDAR