BEGIN:VCALENDAR
VERSION:2.0
BEGIN:VEVENT
DTSTART;TZID=Europe/Stockholm:20290311T100000
DTEND;TZID=Europe/Stockholm:20290311T110000
DTSTAMP:20260424T200836
DESCRIPTION:
SEQUENCE:0
SUMMARY:Gudstjänst
UID:9734@lawebb.se
END:VEVENT
END:VCALENDAR