BEGIN:VCALENDAR
VERSION:2.0
BEGIN:VEVENT
DTSTART;TZID=Europe/Stockholm:20290107T100000
DTEND;TZID=Europe/Stockholm:20290107T110000
DTSTAMP:20260424T194629
DESCRIPTION:
SEQUENCE:0
SUMMARY:Gudstjänst
UID:3668@lawebb.se
END:VEVENT
END:VCALENDAR