BEGIN:VCALENDAR
VERSION:2.0
BEGIN:VEVENT
DTSTART;TZID=Europe/Stockholm:20281210T100000
DTEND;TZID=Europe/Stockholm:20281210T110000
DTSTAMP:20260424T193751
DESCRIPTION:
SEQUENCE:0
SUMMARY:Gudstjänst
UID:2583@lawebb.se
END:VEVENT
END:VCALENDAR