BEGIN:VCALENDAR
VERSION:2.0
BEGIN:VEVENT
DTSTART;TZID=Europe/Stockholm:20281126T100000
DTEND;TZID=Europe/Stockholm:20281126T110000
DTSTAMP:20260424T192709
DESCRIPTION:
SEQUENCE:0
SUMMARY:Gudstjänst
UID:7997@lawebb.se
END:VEVENT
END:VCALENDAR