BEGIN:VCALENDAR
VERSION:2.0
BEGIN:VEVENT
DTSTART;TZID=Europe/Stockholm:20281112T100000
DTEND;TZID=Europe/Stockholm:20281112T110000
DTSTAMP:20260424T192913
DESCRIPTION:
SEQUENCE:0
SUMMARY:Gudstjänst
UID:3725@lawebb.se
END:VEVENT
END:VCALENDAR