BEGIN:VCALENDAR
VERSION:2.0
BEGIN:VEVENT
DTSTART;TZID=Europe/Stockholm:20281022T100000
DTEND;TZID=Europe/Stockholm:20281022T110000
DTSTAMP:20260424T191618
DESCRIPTION:
SEQUENCE:0
SUMMARY:Gudstjänst
UID:4997@lawebb.se
END:VEVENT
END:VCALENDAR