BEGIN:VCALENDAR
VERSION:2.0
BEGIN:VEVENT
DTSTART;TZID=Europe/Stockholm:20280409T100000
DTEND;TZID=Europe/Stockholm:20280409T110000
DTSTAMP:20260424T181707
DESCRIPTION:
SEQUENCE:0
SUMMARY:Gudstjänst
UID:7366@lawebb.se
END:VEVENT
END:VCALENDAR