BEGIN:VCALENDAR
VERSION:2.0
BEGIN:VEVENT
DTSTART;TZID=Europe/Stockholm:20280206T100000
DTEND;TZID=Europe/Stockholm:20280206T110000
DTSTAMP:20260424T174800
DESCRIPTION:
SEQUENCE:0
SUMMARY:Gudstjänst
UID:7553@lawebb.se
END:VEVENT
END:VCALENDAR