BEGIN:VCALENDAR
VERSION:2.0
BEGIN:VEVENT
DTSTART;TZID=Europe/Stockholm:20280130T100000
DTEND;TZID=Europe/Stockholm:20280130T110000
DTSTAMP:20260424T173744
DESCRIPTION:
SEQUENCE:0
SUMMARY:Gudstjänst
UID:3672@lawebb.se
END:VEVENT
END:VCALENDAR