BEGIN:VCALENDAR
VERSION:2.0
BEGIN:VEVENT
DTSTART;TZID=Europe/Stockholm:20280123T100000
DTEND;TZID=Europe/Stockholm:20280123T110000
DTSTAMP:20260424T173838
DESCRIPTION:
SEQUENCE:0
SUMMARY:Gudstjänst
UID:4237@lawebb.se
END:VEVENT
END:VCALENDAR