BEGIN:VCALENDAR
VERSION:2.0
BEGIN:VEVENT
DTSTART;TZID=Europe/Stockholm:20280102T100000
DTEND;TZID=Europe/Stockholm:20280102T110000
DTSTAMP:20260424T173652
DESCRIPTION:
SEQUENCE:0
SUMMARY:Gudstjänst
UID:3227@lawebb.se
END:VEVENT
END:VCALENDAR