BEGIN:VCALENDAR
VERSION:2.0
BEGIN:VEVENT
DTSTART;TZID=Europe/Stockholm:20271226T100000
DTEND;TZID=Europe/Stockholm:20271226T110000
DTSTAMP:20260424T172546
DESCRIPTION:
SEQUENCE:0
SUMMARY:Gudstjänst
UID:6394@lawebb.se
END:VEVENT
END:VCALENDAR