BEGIN:VCALENDAR
VERSION:2.0
BEGIN:VEVENT
DTSTART;TZID=Europe/Stockholm:20271212T100000
DTEND;TZID=Europe/Stockholm:20271212T110000
DTSTAMP:20260424T172733
DESCRIPTION:
SEQUENCE:0
SUMMARY:Gudstjänst
UID:9394@lawebb.se
END:VEVENT
END:VCALENDAR