BEGIN:VCALENDAR
VERSION:2.0
BEGIN:VEVENT
DTSTART;TZID=Europe/Stockholm:20271017T100000
DTEND;TZID=Europe/Stockholm:20271017T110000
DTSTAMP:20260424T170008
DESCRIPTION:
SEQUENCE:0
SUMMARY:Gudstjänst
UID:4464@lawebb.se
END:VEVENT
END:VCALENDAR