BEGIN:VCALENDAR
VERSION:2.0
BEGIN:VEVENT
DTSTART;TZID=Europe/Stockholm:20270808T100000
DTEND;TZID=Europe/Stockholm:20270808T110000
DTSTAMP:20260424T163426
DESCRIPTION:
SEQUENCE:0
SUMMARY:Gudstjänst
UID:4675@lawebb.se
END:VEVENT
END:VCALENDAR