BEGIN:VCALENDAR
VERSION:2.0
BEGIN:VEVENT
DTSTART;TZID=Europe/Stockholm:20110501T100000
DTEND;TZID=Europe/Stockholm:20110501T110000
DTSTAMP:20260424T154035
DESCRIPTION:
SEQUENCE:0
SUMMARY:Gudstjänst
UID:5343@lawebb.se
END:VEVENT
END:VCALENDARBEGIN:VCALENDAR
VERSION:2.0
BEGIN:VEVENT
DTSTART;TZID=Europe/Stockholm:20270725T100000
DTEND;TZID=Europe/Stockholm:20270725T110000
DTSTAMP:20260424T162357
DESCRIPTION:
SEQUENCE:0
SUMMARY:Gudstjänst
UID:7853@lawebb.se
END:VEVENT
END:VCALENDAR