BEGIN:VCALENDAR
VERSION:2.0
BEGIN:VEVENT
DTSTART;TZID=Europe/Stockholm:20270509T100000
DTEND;TZID=Europe/Stockholm:20270509T110000
DTSTAMP:20260424T153158
DESCRIPTION:
SEQUENCE:0
SUMMARY:Gudstjänst
UID:2443@lawebb.se
END:VEVENT
END:VCALENDAR