BEGIN:VCALENDAR
VERSION:2.0
BEGIN:VEVENT
DTSTART;TZID=Europe/Stockholm:20270502T100000
DTEND;TZID=Europe/Stockholm:20270502T110000
DTSTAMP:20260424T153034
DESCRIPTION:
SEQUENCE:0
SUMMARY:Gudstjänst
UID:3267@lawebb.se
END:VEVENT
END:VCALENDAR