BEGIN:VCALENDAR
VERSION:2.0
BEGIN:VEVENT
DTSTART;TZID=Europe/Stockholm:20270221T100000
DTEND;TZID=Europe/Stockholm:20270221T110000
DTSTAMP:20260424T142354
DESCRIPTION:
SEQUENCE:0
SUMMARY:Gudstjänst
UID:2527@lawebb.se
END:VEVENT
END:VCALENDAR