BEGIN:VCALENDAR
VERSION:2.0
BEGIN:VEVENT
DTSTART;TZID=Europe/Stockholm:20261230T100000
DTEND;TZID=Europe/Stockholm:20261230T110000
DTSTAMP:20260424T132927
DESCRIPTION:
SEQUENCE:0
SUMMARY:Öppen kyrka kl. 10–12.
UID:6226@lawebb.se
END:VEVENT
END:VCALENDAR