BEGIN:VCALENDAR
VERSION:2.0
BEGIN:VEVENT
DTSTART;TZID=Europe/Stockholm:20261125T100000
DTEND;TZID=Europe/Stockholm:20261125T110000
DTSTAMP:20260424T125206
DESCRIPTION:
SEQUENCE:0
SUMMARY:Öppen kyrka kl. 10–12.
UID:3284@lawebb.se
END:VEVENT
END:VCALENDAR