BEGIN:VCALENDAR
VERSION:2.0
BEGIN:VEVENT
DTSTART;TZID=Europe/Stockholm:20261111T100000
DTEND;TZID=Europe/Stockholm:20261111T110000
DTSTAMP:20260424T125215
DESCRIPTION:
SEQUENCE:0
SUMMARY:Öppen kyrka kl. 10–12.
UID:9845@lawebb.se
END:VEVENT
END:VCALENDAR