BEGIN:VCALENDAR
VERSION:2.0
BEGIN:VEVENT
DTSTART;TZID=Europe/Stockholm:20260916T100000
DTEND;TZID=Europe/Stockholm:20260916T110000
DTSTAMP:20260424T113657
DESCRIPTION:
SEQUENCE:0
SUMMARY:Öppen kyrka kl. 10–12.
UID:5467@lawebb.se
END:VEVENT
END:VCALENDAR