BEGIN:VCALENDAR
VERSION:2.0
BEGIN:VEVENT
DTSTART;TZID=Europe/Stockholm:20260726T110000
DTEND;TZID=Europe/Stockholm:20260726T120000
DTSTAMP:20260424T103123
DESCRIPTION:Predikant från Centrumkyrkan. Samåkning från Centrumkyrkan kl. 10.30.
SEQUENCE:0
SUMMARY:Ekumenisk gudstjänst i Båraryds kyrka.
UID:4975@lawebb.se
END:VEVENT
END:VCALENDAR