BEGIN:VCALENDAR
VERSION:2.0
BEGIN:VEVENT
DTSTART;TZID=Europe/Stockholm:20260722T100000
DTEND;TZID=Europe/Stockholm:20260722T110000
DTSTAMP:20260424T103030
DESCRIPTION:
SEQUENCE:0
SUMMARY:Öppen kyrka kl. 10–12.
UID:2338@lawebb.se
END:VEVENT
END:VCALENDAR