BEGIN:VCALENDAR
VERSION:2.0
BEGIN:VEVENT
DTSTART;TZID=Europe/Stockholm:20260719T100000
DTEND;TZID=Europe/Stockholm:20260719T110000
DTSTAMP:20260424T103310
DESCRIPTION:Predikant från Svenska kyrkan. Servering.
SEQUENCE:0
SUMMARY:Ekumenisk gudstjänst.
UID:7347@lawebb.se
END:VEVENT
END:VCALENDAR