BEGIN:VCALENDAR
VERSION:2.0
BEGIN:VEVENT
DTSTART;TZID=Europe/Stockholm:20260712T100000
DTEND;TZID=Europe/Stockholm:20260712T110000
DTSTAMP:20260424T103015
DESCRIPTION:Avskedspredikan för Kjell Larsson. Nattvard. Servering.
SEQUENCE:0
SUMMARY:Gudstjänst.
UID:4257@lawebb.se
END:VEVENT
END:VCALENDAR