BEGIN:VCALENDAR
VERSION:2.0
BEGIN:VEVENT
DTSTART;TZID=Europe/Stockholm:20260705T100000
DTEND;TZID=Europe/Stockholm:20260705T110000
DTSTAMP:20260424T103155
DESCRIPTION:Servering.
SEQUENCE:0
SUMMARY:Gudstjänst.
UID:9682@lawebb.se
END:VEVENT
END:VCALENDAR