BEGIN:VCALENDAR
VERSION:2.0
BEGIN:VEVENT
DTSTART;TZID=Europe/Stockholm:20260628T100000
DTEND;TZID=Europe/Stockholm:20260628T110000
DTSTAMP:20260424T100634
DESCRIPTION:Kjell Larsson.
SEQUENCE:0
SUMMARY:Gudstjänst.
UID:8227@lawebb.se
END:VEVENT
END:VCALENDAR