BEGIN:VCALENDAR
VERSION:2.0
BEGIN:VEVENT
DTSTART;TZID=Europe/Stockholm:20260621T100000
DTEND;TZID=Europe/Stockholm:20260621T110000
DTSTAMP:20260424T100604
DESCRIPTION:Servering.
SEQUENCE:0
SUMMARY:Gudstjänst.
UID:2483@lawebb.se
END:VEVENT
END:VCALENDAR