BEGIN:VCALENDAR
VERSION:2.0
BEGIN:VEVENT
DTSTART;TZID=Europe/Stockholm:20260620T110000
DTEND;TZID=Europe/Stockholm:20260620T120000
DTSTAMP:20260424T100446
DESCRIPTION:Servering genom Hembygdsföreningens försorg.
SEQUENCE:0
SUMMARY:Ekumenisk friluftsgudstjänst i Hembygdsparken.
UID:8627@lawebb.se
END:VEVENT
END:VCALENDAR