BEGIN:VCALENDAR
VERSION:2.0
BEGIN:VEVENT
DTSTART;TZID=Europe/Stockholm:20260614T100000
DTEND;TZID=Europe/Stockholm:20260614T110000
DTSTAMP:20260424T100709
DESCRIPTION:Kjell Larsson: &#34;Av nåd är ni frälsta – Guds gåva är det&#34; (Efesierbrevet 1:6–7). Dop. Medlemsintagning. Nattvard. Servering.
SEQUENCE:0
SUMMARY:Gudstjänst.
UID:7697@lawebb.se
END:VEVENT
END:VCALENDAR