BEGIN:VCALENDAR
VERSION:2.0
BEGIN:VEVENT
DTSTART;TZID=Europe/Stockholm:20260607T100000
DTEND;TZID=Europe/Stockholm:20260607T110000
DTSTAMP:20260424T100616
DESCRIPTION:Hanna Eklöf. Söndagskul. Servering.
SEQUENCE:0
SUMMARY:Gudstjänst.
UID:3877@lawebb.se
END:VEVENT
END:VCALENDAR