BEGIN:VCALENDAR
VERSION:2.0
BEGIN:VEVENT
DTSTART;TZID=Europe/Stockholm:20260604T180000
DTEND;TZID=Europe/Stockholm:20260604T190000
DTSTAMP:20260424T100313
DESCRIPTION:
SEQUENCE:0
SUMMARY:Scout på Holmen.
UID:4449@lawebb.se
END:VEVENT
END:VCALENDAR