BEGIN:VCALENDAR
VERSION:2.0
BEGIN:VEVENT
DTSTART;TZID=Europe/Stockholm:20260602T183000
DTEND;TZID=Europe/Stockholm:20260602T193000
DTSTAMP:20260424T100557
DESCRIPTION:
SEQUENCE:0
SUMMARY:Ekumenisk bön i Centrumkyrkan.
UID:8256@lawebb.se
END:VEVENT
END:VCALENDAR