BEGIN:VCALENDAR
VERSION:2.0
BEGIN:VEVENT
DTSTART;TZID=Europe/Stockholm:20260531T100000
DTEND;TZID=Europe/Stockholm:20260531T110000
DTSTAMP:20260424T094815
DESCRIPTION:Kjell Larsson: &#34;Guds nåd är var morgon ny&#34; (Klagovisorna 3:22–23). Gospel Joy. Söndagskul. Servering.
SEQUENCE:0
SUMMARY:Gudstjänst.
UID:5552@lawebb.se
END:VEVENT
END:VCALENDAR