BEGIN:VCALENDAR
VERSION:2.0
BEGIN:VEVENT
DTSTART;TZID=Europe/Stockholm:20260530T160000
DTEND;TZID=Europe/Stockholm:20260530T170000
DTSTAMP:20260424T094524
DESCRIPTION:Kl. 16.00 Stor kör (med deltagare från frikyrkor och Svenska kyrkan), 17.00 ungdomsbandet Sönda&#39;, 17.30 Gospel Joy, 18.00 Finnvedens dragspelsklubb, 19.00 Öppet hus för unga och vuxna.
SEQUENCE:0
SUMMARY:Musikcafé i Centrumkyrkan kl. 16–20.21.
UID:3457@lawebb.se
END:VEVENT
END:VCALENDAR