BEGIN:VCALENDAR
VERSION:2.0
BEGIN:VEVENT
DTSTART;TZID=Europe/Stockholm:20260529T160000
DTEND;TZID=Europe/Stockholm:20260529T170000
DTSTAMP:20260424T094427
DESCRIPTION:Flera grupper från Musikskolan (16.30, 17.15, 19.00) och medverkan av Gislaveds manskör (18.15).
SEQUENCE:0
SUMMARY:Musikcafé i Centrumkyrkan kl. 16–20.
UID:9446@lawebb.se
END:VEVENT
END:VCALENDAR